BEGIN:VCALENDAR
VERSION:2.0
PRODID:-//ACE2-EU European University - ECPv6.15.20//NONSGML v1.0//EN
CALSCALE:GREGORIAN
METHOD:PUBLISH
X-ORIGINAL-URL:https://www.ace2eu.eu
X-WR-CALDESC:Events for ACE2-EU European University
REFRESH-INTERVAL;VALUE=DURATION:PT1H
X-Robots-Tag:noindex
X-PUBLISHED-TTL:PT1H
BEGIN:VTIMEZONE
TZID:UTC
BEGIN:STANDARD
TZOFFSETFROM:+0000
TZOFFSETTO:+0000
TZNAME:UTC
DTSTART:20240101T000000
END:STANDARD
END:VTIMEZONE
BEGIN:VEVENT
DTSTART;TZID=UTC:20250710T120000
DTEND;TZID=UTC:20250710T140000
DTSTAMP:20260421T234949
CREATED:20250703T190258Z
LAST-MODIFIED:20250703T190404Z
UID:10000015-1752148800-1752156000@www.ace2eu.eu
SUMMARY:An Introduction to Active Learning
DESCRIPTION:Call for Participation\nCourse title: An Introduction to Active Learning\nDate: July 10\, 2025 Time: 12:00–14:00 CET (Online – synchronous)\nOrganized by: “Constantin Brâncuși” University of Târgu-Jiu\, Romania\nDeadline for registration: July 9\, 2025 A certificate of attendance will be provided. \n\n\nObjectives of the Call\n\n\nThis ALES course is part of the ACE2-EU Alliance’s joint effort to strengthen innovation in university teaching\, with a focus on learner engagement\, inclusivity\, and digital transformation. The course supports academic staff and digital learning professionals in applying active learning principles across various educational settings — online\, hybrid\, and in-person. \n\n\nCourse Description\n\n\nAn Introduction to Active Learning is an interactive\, 2-hour online session designed to: \n\nIntroduce the pedagogical foundations of active learning.\nDemonstrate inclusive strategies (UDL) and practical digital tools (e.g.\, Padlet\, MS Teams).\nOffer a hands-on group activity in breakout rooms.\nFoster reflection on teaching practices and potential for curriculum enhancement in ACE2-EU programs.\n\n\n\nTarget Group\n\n\n\nUniversity teaching staff involved in digital\, hybrid\, or blended teaching formats (COILs\, MOOCs\, BIPs\, joint degrees).\nInstructional designers\, e-learning coordinators\, or educational developers.\nEarly-career academics transitioning to learner-centered teaching.\n\n\n\nLearning Objectives\n\n\nBy the end of the course\, participants will be able to: \n\nUnderstand and explain the core principles of active learning and their relevance within the educational process.\nDesign a teaching activity using active learning strategies and adapt it for inclusivity.\nUse digital tools to support participation\, reflection\, and interaction.\nIdentify opportunities to apply active learning in their own contexts.\n\n\n\nStructure & Methodology\n\n\nThe 2-hour session includes: \n\nIntroductory presentation and icebreaker\nShort theory segment + examples\nDemonstration of digital tools\nBreakout room task: co-design of an active learning activity\nGroup reflection and feedback session\nPost-course feedback and certificate instructions\n\nThe delivery model embraces the Active Digital Learning Model\, integrating elements from: \n\nChallenge-Based Learning (CBL): through collaborative group tasks simulating authentic instructional design\nUniversal Design for Learning (UDL): by modeling inclusive digital practices and encouraging accessibility in participant outputs\nExperiential Learning: participants experience strategies as learners\, then reflect on their application\nSynchronous online facilitation: through real-time collaboration in Microsoft Teams using tools like Padlet and shared documents\n\nThis approach emphasizes learning by doing\, collaboration\, and pedagogical inclusivity in digital higher education. \n\n\nRegistration and Participation\n\n\nhttps://forms.gle/MgJzUqD7pbqdEEz87 \nThe deadline to register is July 9\, 2025. \nParticipants must attend the full session and contribute to collaborative tasks. \n\n\nCertification\n\n\nA certificate of attendance will be issued by the course organizers upon successful participation. The certificate will list: \n\nCourse title\nLearning outcomes\nDeveloped competences\nDuration (2 hours synchronous online)\n\n\n\nContact & Coordination\n\n\nFor any questions or support related to the course\, please contact: \n“Constantin Brâncuși” University: \n\nMihaela Giurgiulescu – giurgiulescu@e-ucb.ro\nLoredana Pătrșcoiu – patrascoiu@utgjiu.ro\nElena Paliță – palita@e-ucb.ro\n\nDownload PROPOSAL
URL:https://www.ace2eu.eu/event/an-introduction-to-active-learning/
CATEGORIES:e-Pedagogy School
ATTACH;FMTTYPE=image/jpeg:https://www.ace2eu.eu/wp-content/uploads/2025/07/an-introduction-to-active-learning.jpeg
ORGANIZER;CN="%E2%80%9CConstantin Br%C3%A2ncu%C8%99i%E2%80%9D University of T%C3%A2rgu-Jiu%2C Romania":MAILTO:rectorat@e-ucb.ro
LOCATION:https://www.ace2eu.eu/event/an-introduction-to-active-learning/
END:VEVENT
END:VCALENDAR