BEGIN:VCALENDAR
VERSION:2.0
PRODID:-//ACE2-EU European University - ECPv6.15.20//NONSGML v1.0//EN
CALSCALE:GREGORIAN
METHOD:PUBLISH
X-ORIGINAL-URL:https://www.ace2eu.eu
X-WR-CALDESC:Events for ACE2-EU European University
REFRESH-INTERVAL;VALUE=DURATION:PT1H
X-Robots-Tag:noindex
X-PUBLISHED-TTL:PT1H
BEGIN:VTIMEZONE
TZID:UTC
BEGIN:STANDARD
TZOFFSETFROM:+0000
TZOFFSETTO:+0000
TZNAME:UTC
DTSTART:20240101T000000
END:STANDARD
END:VTIMEZONE
BEGIN:VEVENT
DTSTART;TZID=UTC:20250924T080000
DTEND;TZID=UTC:20250930T170000
DTSTAMP:20260423T151709
CREATED:20250903T102114Z
LAST-MODIFIED:20250903T102114Z
UID:10000063-1758700800-1759251600@www.ace2eu.eu
SUMMARY:ACE²-EU BIP – Workshop in Kuldīga\, Latvia: A Journey into Poetic Documentary Heritage
DESCRIPTION:This ACE2-EU Blended Intensive Programme (BIP) brings together students from across Europe to co-create visual and poetic documentary works focused on cultural heritage and place-based storytelling. Hosted in Kuldīga\, Latvia – a UNESCO World Heritage Site – the programme combines online collaboration\, hands-on fieldwork\, and artistic co-creation. \n  \nProgramme Dates\n\nIn-Person Mobility in Latvia: September 24–30\, 2025 (Riga & Kuldīga)
URL:https://www.ace2eu.eu/event/ace%c2%b2-eu-bip-workshop-in-kuldiga-latvia-a-journey-into-poetic-documentary-heritage/
CATEGORIES:WP2
ATTACH;FMTTYPE=image/jpeg:https://www.ace2eu.eu/wp-content/uploads/2025/09/BIP-Latvia2_september-1-scaled.jpg
END:VEVENT
BEGIN:VEVENT
DTSTART;TZID=UTC:20250924T090000
DTEND;TZID=UTC:20250924T150000
DTSTAMP:20260423T151709
CREATED:20250903T102811Z
LAST-MODIFIED:20250903T102811Z
UID:10000067-1758704400-1758726000@www.ace2eu.eu
SUMMARY:WP2 — Working Meeting in Madrid (Pedagogical Package)
DESCRIPTION:Dates & times: \n\nTuesday\, 24 September 2025\, 09:00–15:00 (CEST)\nLocation:Universidad Francisco de Vitoria (UFV)\, Madrid\n\nObjectives: \n\nDefine the ALES activitiesfor the 2025–2026 academic year.\nAgree on the structure and format of the ALPS\, including the teaching methodologies to be implemented.\nPlan the Pedagogical Conferences\, set the dates\, and form a dedicated working group.
URL:https://www.ace2eu.eu/event/wp2-working-meeting-in-madrid-pedagogical-package-2/
CATEGORIES:WP2
ATTACH;FMTTYPE=image/jpeg:https://www.ace2eu.eu/wp-content/uploads/2025/09/Copie-a-Black-Dark-and-Dynamic-Real-Estate-Facebook-Video.jpg
END:VEVENT
END:VCALENDAR