BEGIN:VCALENDAR
VERSION:2.0
PRODID:-//ACE2-EU European University - ECPv6.15.20//NONSGML v1.0//EN
CALSCALE:GREGORIAN
METHOD:PUBLISH
X-ORIGINAL-URL:https://www.ace2eu.eu
X-WR-CALDESC:Events for ACE2-EU European University
REFRESH-INTERVAL;VALUE=DURATION:PT1H
X-Robots-Tag:noindex
X-PUBLISHED-TTL:PT1H
BEGIN:VTIMEZONE
TZID:UTC
BEGIN:STANDARD
TZOFFSETFROM:+0000
TZOFFSETTO:+0000
TZNAME:UTC
DTSTART:20240101T000000
END:STANDARD
END:VTIMEZONE
BEGIN:VEVENT
DTSTART;VALUE=DATE:20251013
DTEND;VALUE=DATE:20251014
DTSTAMP:20260423T134850
CREATED:20250731T073444Z
LAST-MODIFIED:20250731T073444Z
UID:10000021-1760313600-1760399999@www.ace2eu.eu
SUMMARY:Sustainable Cities: Managing Sustainable Cities
DESCRIPTION:Online: 13 October 2025
URL:https://www.ace2eu.eu/event/sustainable-cities-managing-sustainable-cities-2/
CATEGORIES:WP2
ATTACH;FMTTYPE=image/jpeg:https://www.ace2eu.eu/wp-content/uploads/2025/07/ABC-Germany-2.jpg
END:VEVENT
BEGIN:VEVENT
DTSTART;VALUE=DATE:20251013
DTEND;VALUE=DATE:20251014
DTSTAMP:20260423T134850
CREATED:20250731T074349Z
LAST-MODIFIED:20250731T074349Z
UID:10000024-1760313600-1760399999@www.ace2eu.eu
SUMMARY:Sustainable Cities: Environmental\, Social\, and Economic Challenges
DESCRIPTION:Online: 13 October 2025
URL:https://www.ace2eu.eu/event/sustainable-cities-environmental-social-and-economic-challenges-2/
CATEGORIES:WP2
ATTACH;FMTTYPE=image/jpeg:https://www.ace2eu.eu/wp-content/uploads/2025/07/ABC-Germany-3-scaled.jpg
END:VEVENT
BEGIN:VEVENT
DTSTART;VALUE=DATE:20251013
DTEND;VALUE=DATE:20251014
DTSTAMP:20260423T134850
CREATED:20250731T083859Z
LAST-MODIFIED:20250731T083859Z
UID:10000027-1760313600-1760399999@www.ace2eu.eu
SUMMARY:Sustainable Cities: Re-designing Public Spaces – PlatzDa!
DESCRIPTION:Online: 13 October 2025
URL:https://www.ace2eu.eu/event/sustainable-cities-re-designing-public-spaces-platzda-2/
CATEGORIES:WP2
ATTACH;FMTTYPE=image/jpeg:https://www.ace2eu.eu/wp-content/uploads/2025/07/ABC-Germany-1.jpg
END:VEVENT
END:VCALENDAR