BEGIN:VCALENDAR
VERSION:2.0
PRODID:-//ACE2-EU European University - ECPv6.15.20//NONSGML v1.0//EN
CALSCALE:GREGORIAN
METHOD:PUBLISH
X-ORIGINAL-URL:https://www.ace2eu.eu
X-WR-CALDESC:Events for ACE2-EU European University
REFRESH-INTERVAL;VALUE=DURATION:PT1H
X-Robots-Tag:noindex
X-PUBLISHED-TTL:PT1H
BEGIN:VTIMEZONE
TZID:UTC
BEGIN:STANDARD
TZOFFSETFROM:+0000
TZOFFSETTO:+0000
TZNAME:UTC
DTSTART:20240101T000000
END:STANDARD
END:VTIMEZONE
BEGIN:VEVENT
DTSTART;VALUE=DATE:20251013
DTEND;VALUE=DATE:20251018
DTSTAMP:20260421T081747
CREATED:20250731T071834Z
LAST-MODIFIED:20250911T204313Z
UID:10000018-1760313600-1760745599@www.ace2eu.eu
SUMMARY:ACE²-EU ABC: ACTYouth – Youth in action: young people as agents of change in rural communities
DESCRIPTION:Date/Period: 1st semester 2025-2026 \n1st week – September 29 to October 3 (online) \n2nd week – October 6 to 10 (online) \n3rd week – October 13 to 17 (face-to-face) \n4th week – October 27 to 31 (online) \nDaily Schedule : (Brussels time) (Online – synchronous/asyncronous or Onsite) \n\n\n\nWeek\nOnline Synchronous & Face-to-face hours\nAsynchronous & Autonomous Hours\nTotal Hours\n\n\nWeeks 1 & 2 – Online (moderate)\n10h\n24h\n34h\n\n\nWeek 3 – Face-to-Face (intensive)\n27h\n3h\n30h\n\n\nWeek 4 – Online (reflective)\n6h\n20h\n26h\n\n\nTOTAL \n43h \n47h \n90h \n\n\n\nOrganized by: \nSantarém Polytechnic University (IPSantarem) – Portugal \nLatvian Academy of Culture (LAC) – Latvia \nUniversity Constantin Brâncusi (UCB) – Romania \nDeadline for registration: 15 of September\, 23:59 \nA certificate of attendance will be provided. \n\n Objectives of the Call\n\n\nEmpower youth to become active agents of change in rural communities.\nEnable students to identify local challenges\, voice their concerns\, and co-design solutions.\nFoster youth-centered\, inclusive development by connecting students\, universities\, and local stakeholders.\nPromote social inclusion\, participatory democracy\, and sustainable innovation.\n\n\n Course Shourt Description\n\nACTYouth – Youth in Action: Young People as Agents of Change in Rural Communities is a 4-week Applied Blended Challenge (ABC) program combining online and face-to-face learning. Students will work in international teams to tackle real-world problems faced by rural youth\, culminating in the design and presentation of community-based project proposals. \n\n Target Group\n\nEspecially suited for students passionate about youth engagement\, community development\, and social innovation\, regardless of academic background. \n\n Learning Objectives\n\nParticipants will: \n\nIdentify and critically analyze challenges in rural youth contexts.\nCollaborate with peers and local stakeholders.\nCo-design impactful\, community-based projects.\nDevelop key transversal skills:\n\nCritical thinking & problem-solving\nCommunication & advocacy\nCreativity & innovation\nProject planning & leadership\nIntercultural awareness & teamwork\n\n\nReflect on their development as change-makers.\n\n\n Structure & Methodology\n\n  Format: Blended (online + in-person in Santarém\, Portugal) \n  Duration: 4 weeks (90 hours total; 3 ECTS) \n\nWeeks 1–2: Online sessions and tasks\nWeek 3: Face-to-face training and fieldwork\nWeek 4: Online closing sessions and reflection\n\n  6. Registration and Participation \nhttps://forms.gle/9NwsQqxk9sseUYYw5 \nParticipants must attend the full session and contribute to collaborative tasks. \n\n Certification\n\nA certificate of attendance will be issued by the course organizers upon successful participation. The certificate will list: \n\nCourse title\nLearning outcomes\nDeveloped competences\nDuration (90h/3ECTSsynchronous online/onsite)\n\n\n Contact & Coordination\n\nFor any questions or support related to the course\, please contact: \nSantarém Polytechnic University \nPerpétua Santos Silva – perpetua.silva@ese.ipsantarem.pt \nTatiana Ferreira – tatiana. ferreira@ese.ipsantarem.pt \nFor question you can send a email to: Ace-com@e-ucb.ro
URL:https://www.ace2eu.eu/event/actyouth-youth-in-action-young-people-as-agents-of-change-in-rural-communities-3/
LOCATION:IPSantarém – Portugal\, Instituto Politécnico De Santarém\, Santarém\, Portugal
CATEGORIES:Student Opportunities
ATTACH;FMTTYPE=image/jpeg:https://www.ace2eu.eu/wp-content/uploads/2025/07/ABC-Portugal.jpg
END:VEVENT
END:VCALENDAR