BEGIN:VCALENDAR
VERSION:2.0
PRODID:-//ACE2-EU European University - ECPv6.15.20//NONSGML v1.0//EN
CALSCALE:GREGORIAN
METHOD:PUBLISH
X-WR-CALNAME:ACE2-EU European University
X-ORIGINAL-URL:https://www.ace2eu.eu
X-WR-CALDESC:Events for ACE2-EU European University
REFRESH-INTERVAL;VALUE=DURATION:PT1H
X-Robots-Tag:noindex
X-PUBLISHED-TTL:PT1H
BEGIN:VTIMEZONE
TZID:UTC
BEGIN:STANDARD
TZOFFSETFROM:+0000
TZOFFSETTO:+0000
TZNAME:UTC
DTSTART:20240101T000000
END:STANDARD
END:VTIMEZONE
BEGIN:VEVENT
DTSTART;VALUE=DATE:20251027
DTEND;VALUE=DATE:20251101
DTSTAMP:20260421T193309
CREATED:20250731T071938Z
LAST-MODIFIED:20250731T094822Z
UID:10000019-1761523200-1761955199@www.ace2eu.eu
SUMMARY:ACTYouth – Youth in action: young people as agents of change in rural communities
DESCRIPTION:Date/Period: 1st semester 2025-2026 \nDeadline for registration: 30 of October\nhttps://forms.gle/MgJzUqD7pbqdEEz87 \nParticipants must attend the full session and contribute to collaborative tasks. \n  \n1st week – September 29 to October 3 (online) \n2nd week – October 6 to 10 (online) \n3rd week – October 13 to 17 (face-to-face)  \n4th week – October 27 to 31 (online) \n  \nDaily Schedule : (Brussels time) (Online – synchronous/asyncronous or Onsite) \n\n\n\nWeek \nOnline Synchronous & Face-to-face hours \nAsynchronous & Autonomous Hours \nTotal Hours \n\n\nWeeks 1 & 2 – Online (moderate) \n10h \n24h \n34h \n\n\nWeek 3 – Face-to-Face (intensive) \n27h \n3h \n30h \n\n\nWeek 4 – Online (reflective) \n6h \n20h \n26h \n\n\nTOTAL \n43h \n47h \n90h \n\n\n\n  \n\n Objectives of the Call\n\n\nEmpower youth to become active agents of change in rural communities.\nEnable students to identify local challenges\, voice their concerns\, and co-design solutions.\nFoster youth-centered\, inclusive development by connecting students\, universities\, and local stakeholders.\nPromote social inclusion\, participatory democracy\, and sustainable innovation.\n\n\n Course Shourt Description\n\nACTYouth – Youth in Action: Young People as Agents of Change in Rural Communities is a 4-week Applied Blended Challenge (ABC) program combining online and face-to-face learning. Students will work in international teams to tackle real-world problems faced by rural youth\, culminating in the design and presentation of community-based project proposals. \n\n Target Group\n\nEspecially suited for students passionate about youth engagement\, community development\, and social innovation\, regardless of academic background. \n\n Learning Objectives\n\nParticipants will: \n\nIdentify and critically analyze challenges in rural youth contexts.\nCollaborate with peers and local stakeholders.\nCo-design impactful\, community-based projects.\nDevelop key transversal skills:\n\nCritical thinking & problem-solving\nCommunication & advocacy\nCreativity & innovation\nProject planning & leadership\nIntercultural awareness & teamwork\n\n\nReflect on their development as change-makers.\n\n\n Structure & Methodology\n\nFormat: Blended (online + in-person in Santarém\, Portugal) \nDuration: 4 weeks (90 hours total; 3 ECTS) \n\nWeeks 1–2: Online sessions and tasks\nWeek 3: Face-to-face training and fieldwork\nWeek 4: Online closing sessions and reflection\n\n\n Certification\n\nA certificate of attendance will be issued by the course organizers upon successful participation. The certificate will list: \n\nCourse title\nLearning outcomes\nDeveloped competences\nDuration (90h/3ECTSsynchronous online/onsite)\n\n\n Contact & Coordination\n\nFor any questions or support related to the course\, please contact: \nSantarém Polytechnic University \nPerpétua Santos Silva – perpetua.silva@ese.ipsantarem.pt   \nTatiana Ferreira – tatiana. ferreira@ese.ipsantarem.pt
URL:https://www.ace2eu.eu/event/actyouth-youth-in-action-young-people-as-agents-of-change-in-rural-communities-4/
CATEGORIES:WP2
ATTACH;FMTTYPE=image/jpeg:https://www.ace2eu.eu/wp-content/uploads/2025/07/ABC-Portugal.jpg
LOCATION:https://www.ace2eu.eu/event/actyouth-youth-in-action-young-people-as-agents-of-change-in-rural-communities-4/
END:VEVENT
BEGIN:VEVENT
DTSTART;VALUE=DATE:20251013
DTEND;VALUE=DATE:20251018
DTSTAMP:20260421T193309
CREATED:20250731T071834Z
LAST-MODIFIED:20250911T204313Z
UID:10000018-1760313600-1760745599@www.ace2eu.eu
SUMMARY:ACE²-EU ABC: ACTYouth – Youth in action: young people as agents of change in rural communities
DESCRIPTION:Date/Period: 1st semester 2025-2026 \n1st week – September 29 to October 3 (online) \n2nd week – October 6 to 10 (online) \n3rd week – October 13 to 17 (face-to-face) \n4th week – October 27 to 31 (online) \nDaily Schedule : (Brussels time) (Online – synchronous/asyncronous or Onsite) \n\n\n\nWeek\nOnline Synchronous & Face-to-face hours\nAsynchronous & Autonomous Hours\nTotal Hours\n\n\nWeeks 1 & 2 – Online (moderate)\n10h\n24h\n34h\n\n\nWeek 3 – Face-to-Face (intensive)\n27h\n3h\n30h\n\n\nWeek 4 – Online (reflective)\n6h\n20h\n26h\n\n\nTOTAL \n43h \n47h \n90h \n\n\n\nOrganized by: \nSantarém Polytechnic University (IPSantarem) – Portugal \nLatvian Academy of Culture (LAC) – Latvia \nUniversity Constantin Brâncusi (UCB) – Romania \nDeadline for registration: 15 of September\, 23:59 \nA certificate of attendance will be provided. \n\n Objectives of the Call\n\n\nEmpower youth to become active agents of change in rural communities.\nEnable students to identify local challenges\, voice their concerns\, and co-design solutions.\nFoster youth-centered\, inclusive development by connecting students\, universities\, and local stakeholders.\nPromote social inclusion\, participatory democracy\, and sustainable innovation.\n\n\n Course Shourt Description\n\nACTYouth – Youth in Action: Young People as Agents of Change in Rural Communities is a 4-week Applied Blended Challenge (ABC) program combining online and face-to-face learning. Students will work in international teams to tackle real-world problems faced by rural youth\, culminating in the design and presentation of community-based project proposals. \n\n Target Group\n\nEspecially suited for students passionate about youth engagement\, community development\, and social innovation\, regardless of academic background. \n\n Learning Objectives\n\nParticipants will: \n\nIdentify and critically analyze challenges in rural youth contexts.\nCollaborate with peers and local stakeholders.\nCo-design impactful\, community-based projects.\nDevelop key transversal skills:\n\nCritical thinking & problem-solving\nCommunication & advocacy\nCreativity & innovation\nProject planning & leadership\nIntercultural awareness & teamwork\n\n\nReflect on their development as change-makers.\n\n\n Structure & Methodology\n\n  Format: Blended (online + in-person in Santarém\, Portugal) \n  Duration: 4 weeks (90 hours total; 3 ECTS) \n\nWeeks 1–2: Online sessions and tasks\nWeek 3: Face-to-face training and fieldwork\nWeek 4: Online closing sessions and reflection\n\n  6. Registration and Participation \nhttps://forms.gle/9NwsQqxk9sseUYYw5 \nParticipants must attend the full session and contribute to collaborative tasks. \n\n Certification\n\nA certificate of attendance will be issued by the course organizers upon successful participation. The certificate will list: \n\nCourse title\nLearning outcomes\nDeveloped competences\nDuration (90h/3ECTSsynchronous online/onsite)\n\n\n Contact & Coordination\n\nFor any questions or support related to the course\, please contact: \nSantarém Polytechnic University \nPerpétua Santos Silva – perpetua.silva@ese.ipsantarem.pt \nTatiana Ferreira – tatiana. ferreira@ese.ipsantarem.pt \nFor question you can send a email to: Ace-com@e-ucb.ro
URL:https://www.ace2eu.eu/event/actyouth-youth-in-action-young-people-as-agents-of-change-in-rural-communities-3/
LOCATION:IPSantarém – Portugal\, Instituto Politécnico De Santarém\, Santarém\, Portugal
CATEGORIES:Student Opportunities
ATTACH;FMTTYPE=image/jpeg:https://www.ace2eu.eu/wp-content/uploads/2025/07/ABC-Portugal.jpg
END:VEVENT
BEGIN:VEVENT
DTSTART;VALUE=DATE:20251006
DTEND;VALUE=DATE:20251011
DTSTAMP:20260421T193309
CREATED:20250731T071744Z
LAST-MODIFIED:20250807T125158Z
UID:10000017-1759708800-1760140799@www.ace2eu.eu
SUMMARY:ACTYouth – Youth in action: young people as agents of change in rural communities
DESCRIPTION:Date/Period: 1st semester 2025-2026  \nDeadline for registration: 15 of September\nhttps://forms.gle/9NwsQqxk9sseUYYw5 \nParticipants must attend the full session and contribute to collaborative tasks. \n  \n1st week – September 29 to October 3 (online) \n2nd week – October 6 to 10 (online) \n3rd week – October 13 to 17 (face-to-face)  \n4th week – October 27 to 31 (online) \n  \nDaily Schedule : (Brussels time) (Online – synchronous/asyncronous or Onsite) \n\n\n\nWeek \nOnline Synchronous & Face-to-face hours \nAsynchronous & Autonomous Hours \nTotal Hours \n\n\nWeeks 1 & 2 – Online (moderate) \n10h \n24h \n34h \n\n\nWeek 3 – Face-to-Face (intensive) \n27h \n3h \n30h \n\n\nWeek 4 – Online (reflective) \n6h \n20h \n26h \n\n\nTOTAL \n43h \n47h \n90h \n\n\n\n  \n\n Objectives of the Call\n\n\nEmpower youth to become active agents of change in rural communities.\nEnable students to identify local challenges\, voice their concerns\, and co-design solutions.\nFoster youth-centered\, inclusive development by connecting students\, universities\, and local stakeholders.\nPromote social inclusion\, participatory democracy\, and sustainable innovation.\n\n\n Course Shourt Description\n\nACTYouth – Youth in Action: Young People as Agents of Change in Rural Communities is a 4-week Applied Blended Challenge (ABC) program combining online and face-to-face learning. Students will work in international teams to tackle real-world problems faced by rural youth\, culminating in the design and presentation of community-based project proposals. \n\n Target Group\n\nEspecially suited for students passionate about youth engagement\, community development\, and social innovation\, regardless of academic background. \n\n Learning Objectives\n\nParticipants will: \n\nIdentify and critically analyze challenges in rural youth contexts.\nCollaborate with peers and local stakeholders.\nCo-design impactful\, community-based projects.\nDevelop key transversal skills:\n\nCritical thinking & problem-solving\nCommunication & advocacy\nCreativity & innovation\nProject planning & leadership\nIntercultural awareness & teamwork\n\n\nReflect on their development as change-makers.\n\n\n Structure & Methodology\n\nFormat: Blended (online + in-person in Santarém\, Portugal) \nDuration: 4 weeks (90 hours total; 3 ECTS) \n\nWeeks 1–2: Online sessions and tasks\nWeek 3: Face-to-face training and fieldwork\nWeek 4: Online closing sessions and reflection\n\n\n Certification\n\nA certificate of attendance will be issued by the course organizers upon successful participation. The certificate will list: \n\nCourse title\nLearning outcomes\nDeveloped competences\nDuration (90h/3ECTSsynchronous online/onsite)\n\n\n Contact & Coordination\n\nFor any questions or support related to the course\, please contact: \nSantarém Polytechnic University \nPerpétua Santos Silva – perpetua.silva@ese.ipsantarem.pt   \nTatiana Ferreira – tatiana. ferreira@ese.ipsantarem.pt
URL:https://www.ace2eu.eu/event/actyouth-youth-in-action-young-people-as-agents-of-change-in-rural-communities-2/
CATEGORIES:WP2
ATTACH;FMTTYPE=image/jpeg:https://www.ace2eu.eu/wp-content/uploads/2025/07/ABC-Portugal.jpg
LOCATION:https://www.ace2eu.eu/event/actyouth-youth-in-action-young-people-as-agents-of-change-in-rural-communities-2/
END:VEVENT
BEGIN:VEVENT
DTSTART;VALUE=DATE:20250929
DTEND;VALUE=DATE:20251004
DTSTAMP:20260421T193309
CREATED:20250731T070822Z
LAST-MODIFIED:20250807T125120Z
UID:10000016-1759104000-1759535999@www.ace2eu.eu
SUMMARY:ACTYouth – Youth in action: young people as agents of change in rural communities
DESCRIPTION:Date/Period: 1st semester 2025-2026\n \nDeadline for registration: 15 of September\nhttps://forms.gle/9NwsQqxk9sseUYYw5 \nParticipants must attend the full session and contribute to collaborative tasks. \n  \n1st week – September 29 to October 3 (online) \n2nd week – October 6 to 10 (online) \n3rd week – October 13 to 17 (face-to-face)  \n4th week – October 27 to 31 (online) \n  \nDaily Schedule : (Brussels time) (Online – synchronous/asyncronous or Onsite) \n\n\n\nWeek \nOnline Synchronous & Face-to-face hours \nAsynchronous & Autonomous Hours \nTotal Hours \n\n\nWeeks 1 & 2 – Online (moderate) \n10h \n24h \n34h \n\n\nWeek 3 – Face-to-Face (intensive) \n27h \n3h \n30h \n\n\nWeek 4 – Online (reflective) \n6h \n20h \n26h \n\n\nTOTAL \n43h \n47h \n90h \n\n\n\n  \n\n Objectives of the Call\n\n\nEmpower youth to become active agents of change in rural communities.\nEnable students to identify local challenges\, voice their concerns\, and co-design solutions.\nFoster youth-centered\, inclusive development by connecting students\, universities\, and local stakeholders.\nPromote social inclusion\, participatory democracy\, and sustainable innovation.\n\n\n Course Shourt Description\n\nACTYouth – Youth in Action: Young People as Agents of Change in Rural Communities is a 4-week Applied Blended Challenge (ABC) program combining online and face-to-face learning. Students will work in international teams to tackle real-world problems faced by rural youth\, culminating in the design and presentation of community-based project proposals. \n\n Target Group\n\nEspecially suited for students passionate about youth engagement\, community development\, and social innovation\, regardless of academic background. \n\n Learning Objectives\n\nParticipants will: \n\nIdentify and critically analyze challenges in rural youth contexts.\nCollaborate with peers and local stakeholders.\nCo-design impactful\, community-based projects.\nDevelop key transversal skills:\n\nCritical thinking & problem-solving\nCommunication & advocacy\nCreativity & innovation\nProject planning & leadership\nIntercultural awareness & teamwork\n\n\nReflect on their development as change-makers.\n\n\n Structure & Methodology\n\nFormat: Blended (online + in-person in Santarém\, Portugal) \nDuration: 4 weeks (90 hours total; 3 ECTS) \n\nWeeks 1–2: Online sessions and tasks\nWeek 3: Face-to-face training and fieldwork\nWeek 4: Online closing sessions and reflection\n\n\n Certification\n\nA certificate of attendance will be issued by the course organizers upon successful participation. The certificate will list: \n\nCourse title\nLearning outcomes\nDeveloped competences\nDuration (90h/3ECTSsynchronous online/onsite)\n\n\n Contact & Coordination\n\nFor any questions or support related to the course\, please contact: \nSantarém Polytechnic University \nPerpétua Santos Silva – perpetua.silva@ese.ipsantarem.pt   \nTatiana Ferreira – tatiana. ferreira@ese.ipsantarem.pt
URL:https://www.ace2eu.eu/event/actyouth-youth-in-action-young-people-as-agents-of-change-in-rural-communities/
CATEGORIES:WP2
ATTACH;FMTTYPE=image/jpeg:https://www.ace2eu.eu/wp-content/uploads/2025/07/ABC-Portugal.jpg
LOCATION:https://www.ace2eu.eu/event/actyouth-youth-in-action-young-people-as-agents-of-change-in-rural-communities/
END:VEVENT
BEGIN:VEVENT
DTSTART;TZID=UTC:20250710T120000
DTEND;TZID=UTC:20250710T140000
DTSTAMP:20260421T193309
CREATED:20250703T190258Z
LAST-MODIFIED:20250703T190404Z
UID:10000015-1752148800-1752156000@www.ace2eu.eu
SUMMARY:An Introduction to Active Learning
DESCRIPTION:Call for Participation\nCourse title: An Introduction to Active Learning\nDate: July 10\, 2025 Time: 12:00–14:00 CET (Online – synchronous)\nOrganized by: “Constantin Brâncuși” University of Târgu-Jiu\, Romania\nDeadline for registration: July 9\, 2025 A certificate of attendance will be provided. \n\n\nObjectives of the Call\n\n\nThis ALES course is part of the ACE2-EU Alliance’s joint effort to strengthen innovation in university teaching\, with a focus on learner engagement\, inclusivity\, and digital transformation. The course supports academic staff and digital learning professionals in applying active learning principles across various educational settings — online\, hybrid\, and in-person. \n\n\nCourse Description\n\n\nAn Introduction to Active Learning is an interactive\, 2-hour online session designed to: \n\nIntroduce the pedagogical foundations of active learning.\nDemonstrate inclusive strategies (UDL) and practical digital tools (e.g.\, Padlet\, MS Teams).\nOffer a hands-on group activity in breakout rooms.\nFoster reflection on teaching practices and potential for curriculum enhancement in ACE2-EU programs.\n\n\n\nTarget Group\n\n\n\nUniversity teaching staff involved in digital\, hybrid\, or blended teaching formats (COILs\, MOOCs\, BIPs\, joint degrees).\nInstructional designers\, e-learning coordinators\, or educational developers.\nEarly-career academics transitioning to learner-centered teaching.\n\n\n\nLearning Objectives\n\n\nBy the end of the course\, participants will be able to: \n\nUnderstand and explain the core principles of active learning and their relevance within the educational process.\nDesign a teaching activity using active learning strategies and adapt it for inclusivity.\nUse digital tools to support participation\, reflection\, and interaction.\nIdentify opportunities to apply active learning in their own contexts.\n\n\n\nStructure & Methodology\n\n\nThe 2-hour session includes: \n\nIntroductory presentation and icebreaker\nShort theory segment + examples\nDemonstration of digital tools\nBreakout room task: co-design of an active learning activity\nGroup reflection and feedback session\nPost-course feedback and certificate instructions\n\nThe delivery model embraces the Active Digital Learning Model\, integrating elements from: \n\nChallenge-Based Learning (CBL): through collaborative group tasks simulating authentic instructional design\nUniversal Design for Learning (UDL): by modeling inclusive digital practices and encouraging accessibility in participant outputs\nExperiential Learning: participants experience strategies as learners\, then reflect on their application\nSynchronous online facilitation: through real-time collaboration in Microsoft Teams using tools like Padlet and shared documents\n\nThis approach emphasizes learning by doing\, collaboration\, and pedagogical inclusivity in digital higher education. \n\n\nRegistration and Participation\n\n\nhttps://forms.gle/MgJzUqD7pbqdEEz87 \nThe deadline to register is July 9\, 2025. \nParticipants must attend the full session and contribute to collaborative tasks. \n\n\nCertification\n\n\nA certificate of attendance will be issued by the course organizers upon successful participation. The certificate will list: \n\nCourse title\nLearning outcomes\nDeveloped competences\nDuration (2 hours synchronous online)\n\n\n\nContact & Coordination\n\n\nFor any questions or support related to the course\, please contact: \n“Constantin Brâncuși” University: \n\nMihaela Giurgiulescu – giurgiulescu@e-ucb.ro\nLoredana Pătrșcoiu – patrascoiu@utgjiu.ro\nElena Paliță – palita@e-ucb.ro\n\nDownload PROPOSAL
URL:https://www.ace2eu.eu/event/an-introduction-to-active-learning/
CATEGORIES:e-Pedagogy School
ATTACH;FMTTYPE=image/jpeg:https://www.ace2eu.eu/wp-content/uploads/2025/07/an-introduction-to-active-learning.jpeg
ORGANIZER;CN="%E2%80%9CConstantin Br%C3%A2ncu%C8%99i%E2%80%9D University of T%C3%A2rgu-Jiu%2C Romania":MAILTO:rectorat@e-ucb.ro
LOCATION:https://www.ace2eu.eu/event/an-introduction-to-active-learning/
END:VEVENT
END:VCALENDAR