BEGIN:VCALENDAR
VERSION:2.0
PRODID:-//ACE2-EU European University - ECPv6.15.20//NONSGML v1.0//EN
CALSCALE:GREGORIAN
METHOD:PUBLISH
X-ORIGINAL-URL:https://www.ace2eu.eu
X-WR-CALDESC:Events for ACE2-EU European University
REFRESH-INTERVAL;VALUE=DURATION:PT1H
X-Robots-Tag:noindex
X-PUBLISHED-TTL:PT1H
BEGIN:VTIMEZONE
TZID:UTC
BEGIN:STANDARD
TZOFFSETFROM:+0000
TZOFFSETTO:+0000
TZNAME:UTC
DTSTART:20240101T000000
END:STANDARD
END:VTIMEZONE
BEGIN:VEVENT
DTSTART;VALUE=DATE:20250526
DTEND;VALUE=DATE:20250531
DTSTAMP:20260422T044009
CREATED:20250522T075421Z
LAST-MODIFIED:20250522T075708Z
UID:10000007-1748217600-1748649599@www.ace2eu.eu
SUMMARY:The Blended Intensive Programme (BIP) “Current Trends and the Future of the Creative Industries”
DESCRIPTION:The Latvian Academy of Culture\, with Partners from the ACE²-EU European University Alliance\, Launches an International Study Programme on Emerging Trends in the Creative Industries The Latvian Academy of Culture (LAC)\, as a member of the ACE²-EU European University Alliance\, in collaboration with partner universities from Lithuania\, Portugal\, Poland\, and Spain\, is launching an Erasmus+ funded international study programme aimed at examining current trends and future development scenarios in the creative and cultural industries.\nFrom 26 to 30 May\, 2025\, the LAC will implement an international study programme (a blended intensive programme – BIP) titled “Current Trends and the Future of the Creative Industries\,” which will bring together students from different European countries. The online part of the study programme took place on 12 May via the Zoom platform. The programme will offer a synergy between theory and practice\, providing an interdisciplinary approach and fostering the skills necessary to work in a dynamic and rapidly changing sector.
URL:https://www.ace2eu.eu/event/the-blended-intensive-programme-bip-current-trends-and-the-future-of-the-creative-industries/
LOCATION:Latvian Academy of Culture\, Gara māja\, Miera Street 58a\, Latvian Academy of Culture\, Gara māja\, Miera Street 58a\, Riga\, Latvia
CATEGORIES:WP2
ATTACH;FMTTYPE=image/png:https://www.ace2eu.eu/wp-content/uploads/2025/05/Publ-att-1.png
END:VEVENT
END:VCALENDAR